BEGIN:VCALENDAR
VERSION:2.0
PRODID:-//Pinkball - ECPv6.15.1.1//NONSGML v1.0//EN
CALSCALE:GREGORIAN
METHOD:PUBLISH
X-WR-CALNAME:Pinkball
X-ORIGINAL-URL:https://bocapinkball.com
X-WR-CALDESC:Events for Pinkball
REFRESH-INTERVAL;VALUE=DURATION:PT1H
X-Robots-Tag:noindex
X-PUBLISHED-TTL:PT1H
BEGIN:VTIMEZONE
TZID:UTC
BEGIN:STANDARD
TZOFFSETFROM:+0000
TZOFFSETTO:+0000
TZNAME:UTC
DTSTART:20260101T000000
END:STANDARD
END:VTIMEZONE
BEGIN:VEVENT
DTSTART;TZID=UTC:20260221T090000
DTEND;TZID=UTC:20260221T170000
DTSTAMP:20260422T083855
CREATED:20250423T033727Z
LAST-MODIFIED:20260211T140731Z
UID:2890-1771664400-1771693200@bocapinkball.com
SUMMARY:PINKBALL - 2026
DESCRIPTION:SATURDAY\, FEB. 21st 2026\n(Registration & Payment Deadline is Feb. 14th!) \nCLICK HERE TO REGISTER OR FOR SPONSORSHIP OPPORTUNITIES\nFor more info or questions\, contact  \nMaureen Eustace at:  maureen@bocapinkball.com \n \n  \nJoin us for a full day of fun and friendly games at the 15th Annual Pinkball! Enjoy kickball and softball games throughout the day highlighted by the Celebrity All-Star Game where pro athletes take on our First Responders. \nTeam registration is open and welcome to families\, sports groups\, adults\, and kids. Come out and enjoy food\, bounce houses\, raffle prizes\, and more! \nEach player will receive a Pinkball shirt with their registration.  \n  \n  \nPinkball is held every year at the South County Regional Park Softball Fields: \n11435 Park Access Rd\, Boca Raton\, FL 33498\n  \nVOLUNTEERS ARE NEEDED!\n>> Click Here to Signup and Choose Your Time Slot\n  \n  \n  \n 
URL:https://bocapinkball.com/event/pinkball-2026/
LOCATION:South County Regional Park Softball Fields\, 11435 Park Access Rd\, Boca Raton\, FL 33498
ATTACH;FMTTYPE=image/jpeg:https://bocapinkball.com/wp-content/uploads/2025/04/2026-Pinkball-MainEvent-Flyer_v7-scaled.jpg
END:VEVENT
END:VCALENDAR